BEGIN:VCALENDAR
VERSION:2.0
PRODID:-//Union Nautique de Morges - ECPv4.6.19//NONSGML v1.0//EN
CALSCALE:GREGORIAN
METHOD:PUBLISH
X-WR-CALNAME:Union Nautique de Morges
X-ORIGINAL-URL:http://unionnautique.ch
X-WR-CALDESC:Events for Union Nautique de Morges
BEGIN:VEVENT
DTSTART;TZID=UTC+1:20150110T113000
DTEND;TZID=UTC+1:20150110T123000
DTSTAMP:20260423T061536
CREATED:20150105T173225Z
LAST-MODIFIED:20150106T060724Z
UID:1938-1420889400-1420893000@unionnautique.ch
SUMMARY:Apéritif de l'an nouveau
DESCRIPTION:apéritif de l’an nouveau \n \n
URL:http://unionnautique.ch/event/aperitif-de-lan-nouveau/
LOCATION:Union Nautique de Morges 25\, Port du Petit-Bois\, Prom. du Petit-Bois\,\, Morges\, vaud\, 1110\, Suisse
END:VEVENT
END:VCALENDAR