BEGIN:VCALENDAR
VERSION:2.0
PRODID:-//Union Nautique de Morges - ECPv4.6.19//NONSGML v1.0//EN
CALSCALE:GREGORIAN
METHOD:PUBLISH
X-WR-CALNAME:Union Nautique de Morges
X-ORIGINAL-URL:http://unionnautique.ch
X-WR-CALDESC:Events for Union Nautique de Morges
BEGIN:VEVENT
DTSTART;TZID=UTC+1:20160311T200000
DTEND;TZID=UTC+1:20160311T220000
DTSTAMP:20260421T134410
CREATED:20160226T061507Z
LAST-MODIFIED:20160226T061507Z
UID:2681-1457726400-1457733600@unionnautique.ch
SUMMARY:Assemblée générale du 11 Mars 2016
DESCRIPTION:Le comité vous rappelle l’Assemblée générale du 11 Mars \nVenez nombreux !!! \n\n \n
URL:http://unionnautique.ch/event/assemblee-generale-du-11-mars-2016/
LOCATION:Union Nautique de Morges 25\, Port du Petit-Bois\, Prom. du Petit-Bois\,\, Morges\, vaud\, 1110\, Suisse
END:VEVENT
END:VCALENDAR