BEGIN:VCALENDAR
VERSION:2.0
PRODID:-//Union Nautique de Morges - ECPv4.6.19//NONSGML v1.0//EN
CALSCALE:GREGORIAN
METHOD:PUBLISH
X-WR-CALNAME:Union Nautique de Morges
X-ORIGINAL-URL:http://unionnautique.ch
X-WR-CALDESC:Events for Union Nautique de Morges
BEGIN:VEVENT
DTSTART;TZID=UTC+1:20140207T200000
DTEND;TZID=UTC+1:20140207T230000
DTSTAMP:20260425T215405
CREATED:20140107T120250Z
LAST-MODIFIED:20140107T120250Z
UID:417-1391803200-1391814000@unionnautique.ch
SUMMARY:Assemblée générale ordinaire
DESCRIPTION:Tous présents pour cette AG !! \n
URL:http://unionnautique.ch/event/assemblee-generale-ordinaire/
END:VEVENT
END:VCALENDAR