BEGIN:VCALENDAR
VERSION:2.0
PRODID:-//Union Nautique de Morges - ECPv4.6.19//NONSGML v1.0//EN
CALSCALE:GREGORIAN
METHOD:PUBLISH
X-WR-CALNAME:Union Nautique de Morges
X-ORIGINAL-URL:http://unionnautique.ch
X-WR-CALDESC:Events for Union Nautique de Morges
BEGIN:VEVENT
DTSTART;TZID=UTC+1:20150210T190000
DTEND;TZID=UTC+1:20150210T210000
DTSTAMP:20260423T005918
CREATED:20150115T060959Z
LAST-MODIFIED:20150115T061223Z
UID:1953-1423594800-1423602000@unionnautique.ch
SUMMARY:Comité du 10 Février
DESCRIPTION:Le Comité se réunit au Carré \nle 10 Février  \n
URL:http://unionnautique.ch/event/comite-du-10-fevrier/
LOCATION:Union Nautique de Morges 25\, Port du Petit-Bois\, Prom. du Petit-Bois\,\, Morges\, vaud\, 1110\, Suisse
END:VEVENT
END:VCALENDAR