BEGIN:VCALENDAR
VERSION:2.0
PRODID:-//Union Nautique de Morges - ECPv4.6.19//NONSGML v1.0//EN
CALSCALE:GREGORIAN
METHOD:PUBLISH
X-WR-CALNAME:Union Nautique de Morges
X-ORIGINAL-URL:http://unionnautique.ch
X-WR-CALDESC:Events for Union Nautique de Morges
BEGIN:VEVENT
DTSTART;TZID=UTC+1:20170228T180000
DTEND;TZID=UTC+1:20170228T210000
DTSTAMP:20260419T230423
CREATED:20170208T095110Z
LAST-MODIFIED:20170208T095110Z
UID:2910-1488304800-1488315600@unionnautique.ch
SUMMARY:Comité du 28 Février
DESCRIPTION:Le comité tiendra séance le 28 Février \nNous rappelons que d’éventuels candidats au Comité peuvent faire leur demande directement au comité  \npar mail \,par écrit ou par téléphone  \n
URL:http://unionnautique.ch/event/comite-du-28-fevrier/
LOCATION:Union Nautique de Morges 25\, Port du Petit-Bois\, Prom. du Petit-Bois\,\, Morges\, vaud\, 1110\, Suisse
END:VEVENT
END:VCALENDAR