BEGIN:VCALENDAR
VERSION:2.0
PRODID:-//Union Nautique de Morges - ECPv4.6.19//NONSGML v1.0//EN
CALSCALE:GREGORIAN
METHOD:PUBLISH
X-WR-CALNAME:Union Nautique de Morges
X-ORIGINAL-URL:http://unionnautique.ch
X-WR-CALDESC:Events for Union Nautique de Morges
BEGIN:VEVENT
DTSTART;TZID=UTC+1:20151103T190000
DTEND;TZID=UTC+1:20151103T210000
DTSTAMP:20260422T051315
CREATED:20151029T074933Z
LAST-MODIFIED:20151029T074933Z
UID:2318-1446577200-1446584400@unionnautique.ch
SUMMARY:Comité du 3 Novembre
DESCRIPTION:Le comité de l’UNM tiendra séance  le Mardi 3 Novembre de 19h à 21 h \n
URL:http://unionnautique.ch/event/comite-du-3-novembre/
LOCATION:Union Nautique de Morges 25\, Port du Petit-Bois\, Prom. du Petit-Bois\,\, Morges\, vaud\, 1110\, Suisse
END:VEVENT
END:VCALENDAR