BEGIN:VCALENDAR
VERSION:2.0
PRODID:-//Union Nautique de Morges - ECPv4.6.19//NONSGML v1.0//EN
CALSCALE:GREGORIAN
METHOD:PUBLISH
X-WR-CALNAME:Union Nautique de Morges
X-ORIGINAL-URL:http://unionnautique.ch
X-WR-CALDESC:Events for Union Nautique de Morges
BEGIN:VEVENT
DTSTART;TZID=UTC+1:20160407T190000
DTEND;TZID=UTC+1:20160407T220000
DTSTAMP:20260421T095620
CREATED:20160329T050056Z
LAST-MODIFIED:20160329T051041Z
UID:2702-1460055600-1460066400@unionnautique.ch
SUMMARY:La croque du Jeudi 7 Avril
DESCRIPTION:Laurence et Yves se mettent au fourneau \n\n \n
URL:http://unionnautique.ch/event/comite-du-30-mars/
LOCATION:Union Nautique de Morges 25\, Port du Petit-Bois\, Prom. du Petit-Bois\,\, Morges\, vaud\, 1110\, Suisse
END:VEVENT
END:VCALENDAR