BEGIN:VCALENDAR
VERSION:2.0
PRODID:-//Union Nautique de Morges - ECPv4.6.19//NONSGML v1.0//EN
CALSCALE:GREGORIAN
METHOD:PUBLISH
X-WR-CALNAME:Union Nautique de Morges
X-ORIGINAL-URL:http://unionnautique.ch
X-WR-CALDESC:Events for Union Nautique de Morges
BEGIN:VEVENT
DTSTART;TZID=UTC+1:20160607T180000
DTEND;TZID=UTC+1:20160607T220000
DTSTAMP:20260421T030406
CREATED:20160517T051844Z
LAST-MODIFIED:20160517T051844Z
UID:2740-1465322400-1465336800@unionnautique.ch
SUMMARY:Comité du 7 Juin
DESCRIPTION:Le comité tiendra séance extra-muros le Mardi 7 Juin \n
URL:http://unionnautique.ch/event/comite-du-7-juin/
END:VEVENT
END:VCALENDAR