BEGIN:VCALENDAR
VERSION:2.0
PRODID:-//Union Nautique de Morges - ECPv4.6.19//NONSGML v1.0//EN
CALSCALE:GREGORIAN
METHOD:PUBLISH
X-WR-CALNAME:Union Nautique de Morges
X-ORIGINAL-URL:http://unionnautique.ch
X-WR-CALDESC:Events for Union Nautique de Morges
BEGIN:VEVENT
DTSTART;TZID=UTC+1:20150303T190000
DTEND;TZID=UTC+1:20150303T210000
DTSTAMP:20260423T011129
CREATED:20150211T121352Z
LAST-MODIFIED:20150211T121352Z
UID:1992-1425409200-1425416400@unionnautique.ch
SUMMARY:Comité du Mardi 3 Mars
DESCRIPTION:Dernier comité avant l’AG \n
URL:http://unionnautique.ch/event/comite-du-mardi-3-mars/
LOCATION:Union Nautique de Morges 25\, Port du Petit-Bois\, Prom. du Petit-Bois\,\, Morges\, vaud\, 1110\, Suisse
END:VEVENT
END:VCALENDAR