BEGIN:VCALENDAR
VERSION:2.0
PRODID:-//Union Nautique de Morges - ECPv4.6.19//NONSGML v1.0//EN
CALSCALE:GREGORIAN
METHOD:PUBLISH
X-WR-CALNAME:Union Nautique de Morges
X-ORIGINAL-URL:http://unionnautique.ch
X-WR-CALDESC:Events for Union Nautique de Morges
BEGIN:VEVENT
DTSTART;TZID=UTC+1:20160330T190000
DTEND;TZID=UTC+1:20160330T210000
DTSTAMP:20260421T111123
CREATED:20160329T051443Z
LAST-MODIFIED:20160329T051443Z
UID:2705-1459364400-1459371600@unionnautique.ch
SUMMARY:Comité du Mercredi 30 Mars
DESCRIPTION:Le Comité tiendra séance \nMercredi 30 Mars de 19h à 21 h \n
URL:http://unionnautique.ch/event/comite-du-mercredi-30-mars/
LOCATION:Union Nautique de Morges 25\, Port du Petit-Bois\, Prom. du Petit-Bois\,\, Morges\, vaud\, 1110\, Suisse
END:VEVENT
END:VCALENDAR