BEGIN:VCALENDAR
VERSION:2.0
PRODID:-//Union Nautique de Morges - ECPv4.6.19//NONSGML v1.0//EN
CALSCALE:GREGORIAN
METHOD:PUBLISH
X-WR-CALNAME:Union Nautique de Morges
X-ORIGINAL-URL:http://unionnautique.ch
X-WR-CALDESC:Events for Union Nautique de Morges
BEGIN:VEVENT
DTSTART;TZID=UTC+1:20140306T190000
DTEND;TZID=UTC+1:20140306T220000
DTSTAMP:20260425T231428
CREATED:20140228T163735Z
LAST-MODIFIED:20140228T163735Z
UID:510-1394132400-1394143200@unionnautique.ch
SUMMARY:Festival d'asperges !!!
DESCRIPTION:Jean – Jacques se met au fourneau pour notre plus grand plaisir \n\n \n
URL:http://unionnautique.ch/event/festival-dasperges/
LOCATION:Union Nautique de Morges 25\, Port du Petit-Bois\, Prom. du Petit-Bois\,\, Morges\, vaud\, 1110\, Suisse
END:VEVENT
END:VCALENDAR