BEGIN:VCALENDAR
VERSION:2.0
PRODID:-//Union Nautique de Morges - ECPv4.6.19//NONSGML v1.0//EN
CALSCALE:GREGORIAN
METHOD:PUBLISH
X-WR-CALNAME:Union Nautique de Morges
X-ORIGINAL-URL:http://unionnautique.ch
X-WR-CALDESC:Events for Union Nautique de Morges
BEGIN:VEVENT
DTSTART;TZID=UTC+1:20141026T030000
DTEND;TZID=UTC+1:20141026T030500
DTSTAMP:20260423T125907
CREATED:20141022T051919Z
LAST-MODIFIED:20141022T051919Z
UID:1399-1414292400-1414292700@unionnautique.ch
SUMMARY:Heure d'hiver
DESCRIPTION:Dimanche matin heure d’hiver \n\n \n
URL:http://unionnautique.ch/event/heure-dhiver/
END:VEVENT
END:VCALENDAR