BEGIN:VCALENDAR
VERSION:2.0
PRODID:-//Union Nautique de Morges - ECPv4.6.19//NONSGML v1.0//EN
CALSCALE:GREGORIAN
METHOD:PUBLISH
X-WR-CALNAME:Union Nautique de Morges
X-ORIGINAL-URL:http://unionnautique.ch
X-WR-CALDESC:Events for Union Nautique de Morges
BEGIN:VEVENT
DTSTART;TZID=UTC+1:20131221T113000
DTEND;TZID=UTC+1:20131221T160000
DTSTAMP:20260426T004511
CREATED:20131212T065823Z
LAST-MODIFIED:20131212T073814Z
UID:312-1387625400-1387641600@unionnautique.ch
SUMMARY:Les Malakoffs du 21 Décembre
DESCRIPTION: \n
URL:http://unionnautique.ch/event/la-brisolee-du-21-decembre/
END:VEVENT
END:VCALENDAR