BEGIN:VCALENDAR
VERSION:2.0
PRODID:-//Union Nautique de Morges - ECPv4.6.19//NONSGML v1.0//EN
CALSCALE:GREGORIAN
METHOD:PUBLISH
X-WR-CALNAME:Union Nautique de Morges
X-ORIGINAL-URL:http://unionnautique.ch
X-WR-CALDESC:Events for Union Nautique de Morges
BEGIN:VEVENT
DTSTART;TZID=UTC+1:20150912T073000
DTEND;TZID=UTC+1:20150912T200000
DTSTAMP:20260422T073050
CREATED:20150826T080121Z
LAST-MODIFIED:20150826T080338Z
UID:2294-1442043000-1442088000@unionnautique.ch
SUMMARY:La course d'école de l'UNM du 12 Septembre
DESCRIPTION:L’UNM en course !!!!!! \n \n
URL:http://unionnautique.ch/event/la-course-decole-de-lunm-du-12-septembre/
LOCATION:Union Nautique de Morges 25\, Port du Petit-Bois\, Prom. du Petit-Bois\,\, Morges\, vaud\, 1110\, Suisse
END:VEVENT
END:VCALENDAR