BEGIN:VCALENDAR
VERSION:2.0
PRODID:-//Union Nautique de Morges - ECPv4.6.19//NONSGML v1.0//EN
CALSCALE:GREGORIAN
METHOD:PUBLISH
X-WR-CALNAME:Union Nautique de Morges
X-ORIGINAL-URL:http://unionnautique.ch
X-WR-CALDESC:Events for Union Nautique de Morges
BEGIN:VEVENT
DTSTART;TZID=UTC+1:20141120T190000
DTEND;TZID=UTC+1:20141120T230000
DTSTAMP:20260423T125153
CREATED:20141107T092356Z
LAST-MODIFIED:20141107T092451Z
UID:1422-1416510000-1416524400@unionnautique.ch
SUMMARY:La croque du 20 Novembre
DESCRIPTION:La croque de Gaston \n \n
URL:http://unionnautique.ch/event/la-croque-de-gaston/
LOCATION:Union Nautique de Morges 25\, Port du Petit-Bois\, Prom. du Petit-Bois\,\, Morges\, vaud\, 1110\, Suisse
END:VEVENT
END:VCALENDAR