BEGIN:VCALENDAR
VERSION:2.0
PRODID:-//Union Nautique de Morges - ECPv4.6.19//NONSGML v1.0//EN
CALSCALE:GREGORIAN
METHOD:PUBLISH
X-WR-CALNAME:Union Nautique de Morges
X-ORIGINAL-URL:http://unionnautique.ch
X-WR-CALDESC:Events for Union Nautique de Morges
BEGIN:VEVENT
DTSTART;TZID=UTC+1:20140220T190000
DTEND;TZID=UTC+1:20140220T220000
DTSTAMP:20260425T204215
CREATED:20140214T054526Z
LAST-MODIFIED:20140214T054526Z
UID:476-1392922800-1392933600@unionnautique.ch
SUMMARY:La croque de Michel et Josy
DESCRIPTION:La croque du Jeudi 20 Février \n \n
URL:http://unionnautique.ch/event/la-croque-de-michel-et-josy/
LOCATION:Union Nautique de Morges 25\, Port du Petit-Bois\, Prom. du Petit-Bois\,\, Morges\, vaud\, 1110\, Suisse
END:VEVENT
END:VCALENDAR