BEGIN:VCALENDAR
VERSION:2.0
PRODID:-//Union Nautique de Morges - ECPv4.6.19//NONSGML v1.0//EN
CALSCALE:GREGORIAN
METHOD:PUBLISH
X-WR-CALNAME:Union Nautique de Morges
X-ORIGINAL-URL:http://unionnautique.ch
X-WR-CALDESC:Events for Union Nautique de Morges
BEGIN:VEVENT
DTSTART;TZID=UTC+1:20151210T190000
DTEND;TZID=UTC+1:20151210T220000
DTSTAMP:20260422T004313
CREATED:20151206T125236Z
LAST-MODIFIED:20151206T125236Z
UID:2558-1449774000-1449784800@unionnautique.ch
SUMMARY:La croque du 10 Décembre
DESCRIPTION:Michel cuisine pour vous : \nCailles et son accompagnement et dessert \n\n \n
URL:http://unionnautique.ch/event/la-croque-du-10-decembre/
LOCATION:Union Nautique de Morges 25\, Port du Petit-Bois\, Prom. du Petit-Bois\,\, Morges\, vaud\, 1110\, Suisse
END:VEVENT
END:VCALENDAR