BEGIN:VCALENDAR
VERSION:2.0
PRODID:-//Union Nautique de Morges - ECPv4.6.19//NONSGML v1.0//EN
CALSCALE:GREGORIAN
METHOD:PUBLISH
X-WR-CALNAME:Union Nautique de Morges
X-ORIGINAL-URL:http://unionnautique.ch
X-WR-CALDESC:Events for Union Nautique de Morges
BEGIN:VEVENT
DTSTART;TZID=UTC+1:20160310T190000
DTEND;TZID=UTC+1:20160310T220000
DTSTAMP:20260421T152558
CREATED:20160226T061012Z
LAST-MODIFIED:20160226T061012Z
UID:2676-1457636400-1457647200@unionnautique.ch
SUMMARY:La croque du 10 Mars
DESCRIPTION:3 Hommes en cuisine : Yvan\,Michel et Gaston \n\n \n
URL:http://unionnautique.ch/event/la-croque-du-10-mars/
LOCATION:Union Nautique de Morges 25\, Port du Petit-Bois\, Prom. du Petit-Bois\,\, Morges\, vaud\, 1110\, Suisse
END:VEVENT
END:VCALENDAR