BEGIN:VCALENDAR
VERSION:2.0
PRODID:-//Union Nautique de Morges - ECPv4.6.19//NONSGML v1.0//EN
CALSCALE:GREGORIAN
METHOD:PUBLISH
X-WR-CALNAME:Union Nautique de Morges
X-ORIGINAL-URL:http://unionnautique.ch
X-WR-CALDESC:Events for Union Nautique de Morges
BEGIN:VEVENT
DTSTART;TZID=UTC+1:20141211T190000
DTEND;TZID=UTC+1:20141211T230000
DTSTAMP:20260423T102220
CREATED:20141206T092151Z
LAST-MODIFIED:20141206T092151Z
UID:1446-1418324400-1418338800@unionnautique.ch
SUMMARY:La croque du 11 Décembre
DESCRIPTION:La Croque de Josy et Moustache \n\n \n
URL:http://unionnautique.ch/event/la-croque-du-11-decembre/
LOCATION:Union Nautique de Morges 25\, Port du Petit-Bois\, Prom. du Petit-Bois\,\, Morges\, vaud\, 1110\, Suisse
END:VEVENT
END:VCALENDAR