BEGIN:VCALENDAR
VERSION:2.0
PRODID:-//Union Nautique de Morges - ECPv4.6.19//NONSGML v1.0//EN
CALSCALE:GREGORIAN
METHOD:PUBLISH
X-WR-CALNAME:Union Nautique de Morges
X-ORIGINAL-URL:http://unionnautique.ch
X-WR-CALDESC:Events for Union Nautique de Morges
BEGIN:VEVENT
DTSTART;TZID=UTC+1:20170112T193000
DTEND;TZID=UTC+1:20170112T220000
DTSTAMP:20260420T065743
CREATED:20170102T194359Z
LAST-MODIFIED:20170102T194359Z
UID:2859-1484249400-1484258400@unionnautique.ch
SUMMARY:La croque du 12 Janvier
DESCRIPTION:Francisco vous prépare une délicieuse recette \n\n \n
URL:http://unionnautique.ch/event/la-croque-du-12-janvier/
LOCATION:Union Nautique de Morges 25\, Port du Petit-Bois\, Prom. du Petit-Bois\,\, Morges\, vaud\, 1110\, Suisse
END:VEVENT
END:VCALENDAR