BEGIN:VCALENDAR
VERSION:2.0
PRODID:-//Union Nautique de Morges - ECPv4.6.19//NONSGML v1.0//EN
CALSCALE:GREGORIAN
METHOD:PUBLISH
X-WR-CALNAME:Union Nautique de Morges
X-ORIGINAL-URL:http://unionnautique.ch
X-WR-CALDESC:Events for Union Nautique de Morges
BEGIN:VEVENT
DTSTART;TZID=UTC+1:20150115T190000
DTEND;TZID=UTC+1:20150115T230000
DTSTAMP:20260423T032754
CREATED:20150109T080711Z
LAST-MODIFIED:20150109T080711Z
UID:1947-1421348400-1421362800@unionnautique.ch
SUMMARY:La croque du 15 Janvier
DESCRIPTION:Josy se met au fourneau pour Votre plaisir \n\n \n
URL:http://unionnautique.ch/event/la-croque-du-15-janvier/
LOCATION:Union Nautique de Morges 25\, Port du Petit-Bois\, Prom. du Petit-Bois\,\, Morges\, vaud\, 1110\, Suisse
END:VEVENT
END:VCALENDAR