BEGIN:VCALENDAR
VERSION:2.0
PRODID:-//Union Nautique de Morges - ECPv4.6.19//NONSGML v1.0//EN
CALSCALE:GREGORIAN
METHOD:PUBLISH
X-WR-CALNAME:Union Nautique de Morges
X-ORIGINAL-URL:http://unionnautique.ch
X-WR-CALDESC:Events for Union Nautique de Morges
BEGIN:VEVENT
DTSTART;TZID=UTC+1:20140116T193000
DTEND;TZID=UTC+1:20140116T220000
DTSTAMP:20260425T232119
CREATED:20140110T064949Z
LAST-MODIFIED:20140110T064949Z
UID:420-1389900600-1389909600@unionnautique.ch
SUMMARY:La Croque du 16 Janvier
DESCRIPTION: \n
URL:http://unionnautique.ch/event/la-croque-du-16-janvier/
END:VEVENT
END:VCALENDAR