BEGIN:VCALENDAR
VERSION:2.0
PRODID:-//Union Nautique de Morges - ECPv4.6.19//NONSGML v1.0//EN
CALSCALE:GREGORIAN
METHOD:PUBLISH
X-WR-CALNAME:Union Nautique de Morges
X-ORIGINAL-URL:http://unionnautique.ch
X-WR-CALDESC:Events for Union Nautique de Morges
BEGIN:VEVENT
DTSTART;TZID=UTC+1:20160218T190000
DTEND;TZID=UTC+1:20160218T220000
DTSTAMP:20260421T180637
CREATED:20160212T062308Z
LAST-MODIFIED:20160212T062308Z
UID:2660-1455822000-1455832800@unionnautique.ch
SUMMARY:La Croque du 18 Février
DESCRIPTION:Jean – Jacques à la cuisine \n\n \n
URL:http://unionnautique.ch/event/la-croque-du-18-fevrier/
LOCATION:Union Nautique de Morges 25\, Port du Petit-Bois\, Prom. du Petit-Bois\,\, Morges\, vaud\, 1110\, Suisse
END:VEVENT
END:VCALENDAR