BEGIN:VCALENDAR
VERSION:2.0
PRODID:-//Union Nautique de Morges - ECPv4.6.19//NONSGML v1.0//EN
CALSCALE:GREGORIAN
METHOD:PUBLISH
X-WR-CALNAME:Union Nautique de Morges
X-ORIGINAL-URL:http://unionnautique.ch
X-WR-CALDESC:Events for Union Nautique de Morges
BEGIN:VEVENT
DTSTART;TZID=UTC+1:20160121T190000
DTEND;TZID=UTC+1:20160121T220000
DTSTAMP:20260421T205349
CREATED:20160109T121343Z
LAST-MODIFIED:20160109T121343Z
UID:2637-1453402800-1453413600@unionnautique.ch
SUMMARY:La croque du 21 Janvier
DESCRIPTION:Yvan nous propose sa choucroute jurassienne !!!!!! \n\n \n
URL:http://unionnautique.ch/event/la-croque-du-21-janvier/
LOCATION:Union Nautique de Morges 25\, Port du Petit-Bois\, Prom. du Petit-Bois\,\, Morges\, vaud\, 1110\, Suisse
END:VEVENT
END:VCALENDAR