BEGIN:VCALENDAR
VERSION:2.0
PRODID:-//Union Nautique de Morges - ECPv4.6.19//NONSGML v1.0//EN
CALSCALE:GREGORIAN
METHOD:PUBLISH
X-WR-CALNAME:Union Nautique de Morges
X-ORIGINAL-URL:http://unionnautique.ch
X-WR-CALDESC:Events for Union Nautique de Morges
BEGIN:VEVENT
DTSTART;TZID=UTC+1:20160826T193000
DTEND;TZID=UTC+1:20160826T220000
DTSTAMP:20260420T230000
CREATED:20160812T072338Z
LAST-MODIFIED:20160812T072338Z
UID:2785-1472239800-1472248800@unionnautique.ch
SUMMARY:La croque du 26 Août 2016
DESCRIPTION:Jean – Jacques au fourneau !!! \n\n \n
URL:http://unionnautique.ch/event/la-croque-du-26-aout-2016/
LOCATION:Union Nautique de Morges 25\, Port du Petit-Bois\, Prom. du Petit-Bois\,\, Morges\, vaud\, 1110\, Suisse
END:VEVENT
END:VCALENDAR