BEGIN:VCALENDAR
VERSION:2.0
PRODID:-//Union Nautique de Morges - ECPv4.6.19//NONSGML v1.0//EN
CALSCALE:GREGORIAN
METHOD:PUBLISH
X-WR-CALNAME:Union Nautique de Morges
X-ORIGINAL-URL:http://unionnautique.ch
X-WR-CALDESC:Events for Union Nautique de Morges
BEGIN:VEVENT
DTSTART;TZID=UTC+1:20141127T193000
DTEND;TZID=UTC+1:20141127T230000
DTSTAMP:20260423T130535
CREATED:20141121T063858Z
LAST-MODIFIED:20141121T063858Z
UID:1432-1417116600-1417129200@unionnautique.ch
SUMMARY:La croque du 27 Novembre
DESCRIPTION:Jeudi 27 Novembre Jean – Jacques en cuisine \n\n \n
URL:http://unionnautique.ch/event/la-croque-du-27-novembre/
LOCATION:Union Nautique de Morges 25\, Port du Petit-Bois\, Prom. du Petit-Bois\,\, Morges\, vaud\, 1110\, Suisse
END:VEVENT
END:VCALENDAR