BEGIN:VCALENDAR
VERSION:2.0
PRODID:-//Union Nautique de Morges - ECPv4.6.19//NONSGML v1.0//EN
CALSCALE:GREGORIAN
METHOD:PUBLISH
X-WR-CALNAME:Union Nautique de Morges
X-ORIGINAL-URL:http://unionnautique.ch
X-WR-CALDESC:Events for Union Nautique de Morges
BEGIN:VEVENT
DTSTART;TZID=UTC+1:20161028T190000
DTEND;TZID=UTC+1:20161028T220000
DTSTAMP:20260420T174212
CREATED:20161008T134638Z
LAST-MODIFIED:20161008T134656Z
UID:2802-1477681200-1477692000@unionnautique.ch
SUMMARY:La croque du 28 Octobre
DESCRIPTION:un vrai régal !!!!!!!!!!! \nYvan va devenir un grand Maître 5 étoiles \n \n
URL:http://unionnautique.ch/event/la-croque-du-28-octobre/
LOCATION:Union Nautique de Morges 25\, Port du Petit-Bois\, Prom. du Petit-Bois\,\, Morges\, vaud\, 1110\, Suisse
END:VEVENT
END:VCALENDAR