BEGIN:VCALENDAR
VERSION:2.0
PRODID:-//Union Nautique de Morges - ECPv4.6.19//NONSGML v1.0//EN
CALSCALE:GREGORIAN
METHOD:PUBLISH
X-WR-CALNAME:Union Nautique de Morges
X-ORIGINAL-URL:http://unionnautique.ch
X-WR-CALDESC:Events for Union Nautique de Morges
BEGIN:VEVENT
DTSTART;TZID=UTC+1:20151029T190000
DTEND;TZID=UTC+1:20151029T230000
DTSTAMP:20260422T050334
CREATED:20150930T080848Z
LAST-MODIFIED:20150930T093300Z
UID:2311-1446145200-1446159600@unionnautique.ch
SUMMARY:La croque du 29 Octobre
DESCRIPTION:Gaston ouvre les feux de la saison d’hiver \n \n
URL:http://unionnautique.ch/event/la-croque-du-29-octobre/
LOCATION:Union Nautique de Morges 25\, Port du Petit-Bois\, Prom. du Petit-Bois\,\, Morges\, vaud\, 1110\, Suisse
END:VEVENT
END:VCALENDAR