BEGIN:VCALENDAR
VERSION:2.0
PRODID:-//Union Nautique de Morges - ECPv4.6.19//NONSGML v1.0//EN
CALSCALE:GREGORIAN
METHOD:PUBLISH
X-WR-CALNAME:Union Nautique de Morges
X-ORIGINAL-URL:http://unionnautique.ch
X-WR-CALDESC:Events for Union Nautique de Morges
BEGIN:VEVENT
DTSTART;TZID=UTC+1:20150205T190000
DTEND;TZID=UTC+1:20150205T230000
DTSTAMP:20260425T105043
CREATED:20150123T053238Z
LAST-MODIFIED:20150123T053238Z
UID:1969-1423162800-1423177200@unionnautique.ch
SUMMARY:La Croque du 5 Février
DESCRIPTION:Josy se met à votre service et cuisine pour vous : \n\n \n
URL:http://unionnautique.ch/event/la-croque-du-5-fevrier/
LOCATION:Union Nautique de Morges 25\, Port du Petit-Bois\, Prom. du Petit-Bois\,\, Morges\, vaud\, 1110\, Suisse
END:VEVENT
END:VCALENDAR