BEGIN:VCALENDAR
VERSION:2.0
PRODID:-//Union Nautique de Morges - ECPv4.6.19//NONSGML v1.0//EN
CALSCALE:GREGORIAN
METHOD:PUBLISH
X-WR-CALNAME:Union Nautique de Morges
X-ORIGINAL-URL:http://unionnautique.ch
X-WR-CALDESC:Events for Union Nautique de Morges
BEGIN:VEVENT
DTSTART;TZID=UTC+1:20150108T190000
DTEND;TZID=UTC+1:20150108T230000
DTSTAMP:20260423T072916
CREATED:20141219T080149Z
LAST-MODIFIED:20141219T080149Z
UID:1459-1420743600-1420758000@unionnautique.ch
SUMMARY:La croque du 8 Janvier 2015
DESCRIPTION:Michel se met au fourneau \n\n \n
URL:http://unionnautique.ch/event/la-croque-du-8-janvier-2015-2/
LOCATION:Union Nautique de Morges 25\, Port du Petit-Bois\, Prom. du Petit-Bois\,\, Morges\, vaud\, 1110\, Suisse
END:VEVENT
END:VCALENDAR