BEGIN:VCALENDAR
VERSION:2.0
PRODID:-//Union Nautique de Morges - ECPv4.6.19//NONSGML v1.0//EN
CALSCALE:GREGORIAN
METHOD:PUBLISH
X-WR-CALNAME:Union Nautique de Morges
X-ORIGINAL-URL:http://unionnautique.ch
X-WR-CALDESC:Events for Union Nautique de Morges
BEGIN:VEVENT
DTSTART;TZID=UTC+1:20161110T190000
DTEND;TZID=UTC+1:20161110T220000
DTSTAMP:20260420T172905
CREATED:20161105T052911Z
LAST-MODIFIED:20161105T052911Z
UID:2817-1478804400-1478815200@unionnautique.ch
SUMMARY:La croque du Jeudi 10 Novembre
DESCRIPTION:Jean – Jacques se met aux fourneaux \nau menu : \nPoulet au citron et ananas \nSalade \n\n \n
URL:http://unionnautique.ch/event/la-croque-du-jeudi-10-novembre/
LOCATION:Union Nautique de Morges 25\, Port du Petit-Bois\, Prom. du Petit-Bois\,\, Morges\, vaud\, 1110\, Suisse
END:VEVENT
END:VCALENDAR