BEGIN:VCALENDAR
VERSION:2.0
PRODID:-//Union Nautique de Morges - ECPv4.6.19//NONSGML v1.0//EN
CALSCALE:GREGORIAN
METHOD:PUBLISH
X-WR-CALNAME:Union Nautique de Morges
X-ORIGINAL-URL:http://unionnautique.ch
X-WR-CALDESC:Events for Union Nautique de Morges
BEGIN:VEVENT
DTSTART;TZID=UTC+1:20160114T190000
DTEND;TZID=UTC+1:20160114T220000
DTSTAMP:20260421T220138
CREATED:20160108T100726Z
LAST-MODIFIED:20160109T092417Z
UID:2633-1452798000-1452808800@unionnautique.ch
SUMMARY:La croque du Jeudi 14 Janvier
DESCRIPTION:Michel se propose de vous présenter son canard surprise \n \n
URL:http://unionnautique.ch/event/la-croque-du-jeudi-14-janvier/
LOCATION:Union Nautique de Morges 25\, Port du Petit-Bois\, Prom. du Petit-Bois\,\, Morges\, vaud\, 1110\, Suisse
END:VEVENT
END:VCALENDAR