BEGIN:VCALENDAR
VERSION:2.0
PRODID:-//Union Nautique de Morges - ECPv4.6.19//NONSGML v1.0//EN
CALSCALE:GREGORIAN
METHOD:PUBLISH
X-WR-CALNAME:Union Nautique de Morges
X-ORIGINAL-URL:http://unionnautique.ch
X-WR-CALDESC:Events for Union Nautique de Morges
BEGIN:VEVENT
DTSTART;TZID=UTC+1:20160317T190000
DTEND;TZID=UTC+1:20160317T220000
DTSTAMP:20260421T134907
CREATED:20160312T122630Z
LAST-MODIFIED:20160312T122630Z
UID:2691-1458241200-1458252000@unionnautique.ch
SUMMARY:La Croque du Jeudi 17 Mars
DESCRIPTION:Yves au fourneau \n\n \n
URL:http://unionnautique.ch/event/la-croque-du-jeudi-17-mars/
LOCATION:Union Nautique de Morges 25\, Port du Petit-Bois\, Prom. du Petit-Bois\,\, Morges\, vaud\, 1110\, Suisse
END:VEVENT
END:VCALENDAR