BEGIN:VCALENDAR
VERSION:2.0
PRODID:-//Union Nautique de Morges - ECPv4.6.19//NONSGML v1.0//EN
CALSCALE:GREGORIAN
METHOD:PUBLISH
X-WR-CALNAME:Union Nautique de Morges
X-ORIGINAL-URL:http://unionnautique.ch
X-WR-CALDESC:Events for Union Nautique de Morges
BEGIN:VEVENT
DTSTART;TZID=UTC+1:20161117T193000
DTEND;TZID=UTC+1:20161117T230000
DTSTAMP:20260420T150734
CREATED:20161111T084655Z
LAST-MODIFIED:20161111T084655Z
UID:2828-1479411000-1479423600@unionnautique.ch
SUMMARY:La croque du Jeudi 17 Novembre 2016
DESCRIPTION:Gaston et Yvan vous proposent  \nun rôti haché et son gratin de pdt \n\n \n
URL:http://unionnautique.ch/event/la-croque-du-jeudi-17-novembre-2016/
LOCATION:Union Nautique de Morges 25\, Port du Petit-Bois\, Prom. du Petit-Bois\,\, Morges\, vaud\, 1110\, Suisse
END:VEVENT
END:VCALENDAR