BEGIN:VCALENDAR
VERSION:2.0
PRODID:-//Union Nautique de Morges - ECPv4.6.19//NONSGML v1.0//EN
CALSCALE:GREGORIAN
METHOD:PUBLISH
X-WR-CALNAME:Union Nautique de Morges
X-ORIGINAL-URL:http://unionnautique.ch
X-WR-CALDESC:Events for Union Nautique de Morges
BEGIN:VEVENT
DTSTART;TZID=UTC+1:20170302T190000
DTEND;TZID=UTC+1:20170302T220000
DTSTAMP:20260419T214456
CREATED:20170217T120407Z
LAST-MODIFIED:20170217T120407Z
UID:2921-1488481200-1488492000@unionnautique.ch
SUMMARY:La Croque du Jeudi 2 Mars
DESCRIPTION:Jean-Jacques cuisine pour Vous \n  \n \n  \n
URL:http://unionnautique.ch/event/la-croque-du-jeudi-2-mars/
LOCATION:Union Nautique de Morges 25\, Port du Petit-Bois\, Prom. du Petit-Bois\,\, Morges\, vaud\, 1110\, Suisse
END:VEVENT
END:VCALENDAR