BEGIN:VCALENDAR
VERSION:2.0
PRODID:-//Union Nautique de Morges - ECPv4.6.19//NONSGML v1.0//EN
CALSCALE:GREGORIAN
METHOD:PUBLISH
X-WR-CALNAME:Union Nautique de Morges
X-ORIGINAL-URL:http://unionnautique.ch
X-WR-CALDESC:Events for Union Nautique de Morges
BEGIN:VEVENT
DTSTART;TZID=UTC+1:20170323T190000
DTEND;TZID=UTC+1:20170323T220000
DTSTAMP:20260419T191952
CREATED:20170314T180439Z
LAST-MODIFIED:20170314T180931Z
UID:2946-1490295600-1490306400@unionnautique.ch
SUMMARY:La croque du Jeudi 23 Mars
DESCRIPTION:Jean-Jacques vous prépare…….. \n  \n \n
URL:http://unionnautique.ch/event/la-croque-du-jeudi-23-mars/
LOCATION:Union Nautique de Morges 25\, Port du Petit-Bois\, Prom. du Petit-Bois\,\, Morges\, vaud\, 1110\, Suisse
END:VEVENT
END:VCALENDAR