BEGIN:VCALENDAR
VERSION:2.0
PRODID:-//Union Nautique de Morges - ECPv4.6.19//NONSGML v1.0//EN
CALSCALE:GREGORIAN
METHOD:PUBLISH
X-WR-CALNAME:Union Nautique de Morges
X-ORIGINAL-URL:http://unionnautique.ch
X-WR-CALDESC:Events for Union Nautique de Morges
BEGIN:VEVENT
DTSTART;TZID=UTC+1:20161208T193000
DTEND;TZID=UTC+1:20161208T230000
DTSTAMP:20260420T144936
CREATED:20161204T103350Z
LAST-MODIFIED:20161204T103350Z
UID:2839-1481225400-1481238000@unionnautique.ch
SUMMARY:La Croque du Jeudi 8 Décembre 
DESCRIPTION:Michel vous prépare sa fameuse recette \n\n \n
URL:http://unionnautique.ch/event/la-croque-du-jeudi-8-decembre/
LOCATION:Union Nautique de Morges 25\, Port du Petit-Bois\, Prom. du Petit-Bois\,\, Morges\, vaud\, 1110\, Suisse
END:VEVENT
END:VCALENDAR