BEGIN:VCALENDAR
VERSION:2.0
PRODID:-//Union Nautique de Morges - ECPv4.6.19//NONSGML v1.0//EN
CALSCALE:GREGORIAN
METHOD:PUBLISH
X-WR-CALNAME:Union Nautique de Morges
X-ORIGINAL-URL:http://unionnautique.ch
X-WR-CALDESC:Events for Union Nautique de Morges
BEGIN:VEVENT
DTSTART;TZID=UTC+1:20160624T190000
DTEND;TZID=UTC+1:20160624T220000
DTSTAMP:20260421T030106
CREATED:20160527T051834Z
LAST-MODIFIED:20160527T051954Z
UID:2752-1466794800-1466805600@unionnautique.ch
SUMMARY:La Croque du Vendredi 24 Juin
DESCRIPTION:Yvan se met au fourneau  \n \n
URL:http://unionnautique.ch/event/la-croque-du-vendredi-24-juin/
LOCATION:Union Nautique de Morges 25\, Port du Petit-Bois\, Prom. du Petit-Bois\,\, Morges\, vaud\, 1110\, Suisse
END:VEVENT
END:VCALENDAR