BEGIN:VCALENDAR
VERSION:2.0
PRODID:-//Union Nautique de Morges - ECPv4.6.19//NONSGML v1.0//EN
CALSCALE:GREGORIAN
METHOD:PUBLISH
X-WR-CALNAME:Union Nautique de Morges
X-ORIGINAL-URL:http://unionnautique.ch
X-WR-CALDESC:Events for Union Nautique de Morges
BEGIN:VEVENT
DTSTART;TZID=UTC+1:20141207T110000
DTEND;TZID=UTC+1:20141207T160000
DTSTAMP:20260423T125836
CREATED:20141117T120852Z
LAST-MODIFIED:20141117T120852Z
UID:1428-1417950000-1417968000@unionnautique.ch
SUMMARY:La Journée récréative du 7 Décembre
DESCRIPTION:Journée récréative du 7 Décembre \n \n
URL:http://unionnautique.ch/event/la-journee-recreative-du-7-decembre/
LOCATION:Union Nautique de Morges 25\, Port du Petit-Bois\, Prom. du Petit-Bois\,\, Morges\, vaud\, 1110\, Suisse
END:VEVENT
END:VCALENDAR