BEGIN:VCALENDAR
VERSION:2.0
PRODID:-//Union Nautique de Morges - ECPv4.6.19//NONSGML v1.0//EN
CALSCALE:GREGORIAN
METHOD:PUBLISH
X-WR-CALNAME:Union Nautique de Morges
X-ORIGINAL-URL:http://unionnautique.ch
X-WR-CALDESC:Events for Union Nautique de Morges
BEGIN:VEVENT
DTSTART;TZID=UTC+1:20160522T100000
DTEND;TZID=UTC+1:20160522T190000
DTSTAMP:20260421T042614
CREATED:20160410T123136Z
LAST-MODIFIED:20160415T062558Z
UID:2724-1463911200-1463943600@unionnautique.ch
SUMMARY:La Parade navale du Dimanche 22 Mai 2016
DESCRIPTION:L’UNM tiendra un stand au Port du Château \n \n
URL:http://unionnautique.ch/event/la-parade-navale-du-dimanche-22-mai-2016/
END:VEVENT
END:VCALENDAR