BEGIN:VCALENDAR
VERSION:2.0
PRODID:-//Union Nautique de Morges - ECPv4.6.19//NONSGML v1.0//EN
CALSCALE:GREGORIAN
METHOD:PUBLISH
X-WR-CALNAME:Union Nautique de Morges
X-ORIGINAL-URL:http://unionnautique.ch
X-WR-CALDESC:Events for Union Nautique de Morges
BEGIN:VEVENT
DTSTART;TZID=UTC+1:20160119T190000
DTEND;TZID=UTC+1:20160119T210000
DTSTAMP:20260421T215804
CREATED:20151221T152634Z
LAST-MODIFIED:20151221T152634Z
UID:2613-1453230000-1453237200@unionnautique.ch
SUMMARY:Le comité du 19 Janvier
DESCRIPTION:Le Comité se réunit le Mardi 19 Janvier à 19 h au Carré \n
URL:http://unionnautique.ch/event/le-comite-du-19-janvier/
LOCATION:Union Nautique de Morges 25\, Port du Petit-Bois\, Prom. du Petit-Bois\,\, Morges\, vaud\, 1110\, Suisse
END:VEVENT
END:VCALENDAR