BEGIN:VCALENDAR
VERSION:2.0
PRODID:-//Union Nautique de Morges - ECPv4.6.19//NONSGML v1.0//EN
CALSCALE:GREGORIAN
METHOD:PUBLISH
X-WR-CALNAME:Union Nautique de Morges
X-ORIGINAL-URL:http://unionnautique.ch
X-WR-CALDESC:Events for Union Nautique de Morges
BEGIN:VEVENT
DTSTART;TZID=UTC+1:20150922T190000
DTEND;TZID=UTC+1:20150922T210000
DTSTAMP:20260422T084650
CREATED:20150826T075924Z
LAST-MODIFIED:20150826T075924Z
UID:2293-1442948400-1442955600@unionnautique.ch
SUMMARY:Le Comité du 22 Septembre
DESCRIPTION:Le comité tiendra séance le 22 Septembre \nL’ordre du jour suivra……… \n
URL:http://unionnautique.ch/event/le-comite-du-22-septembre/
LOCATION:Union Nautique de Morges 25\, Port du Petit-Bois\, Prom. du Petit-Bois\,\, Morges\, vaud\, 1110\, Suisse
END:VEVENT
END:VCALENDAR