BEGIN:VCALENDAR
VERSION:2.0
PRODID:-//Union Nautique de Morges - ECPv4.6.19//NONSGML v1.0//EN
CALSCALE:GREGORIAN
METHOD:PUBLISH
X-WR-CALNAME:Union Nautique de Morges
X-ORIGINAL-URL:http://unionnautique.ch
X-WR-CALDESC:Events for Union Nautique de Morges
BEGIN:VEVENT
DTSTART;TZID=UTC+1:20151027T190000
DTEND;TZID=UTC+1:20151027T210000
DTSTAMP:20260424T090818
CREATED:20150924T050448Z
LAST-MODIFIED:20150924T050448Z
UID:2303-1445972400-1445979600@unionnautique.ch
SUMMARY:Le Comité du 27 Octobre
DESCRIPTION:Le comité tiendra séance le Mardi 27 Octobre à 19h00 \n
URL:http://unionnautique.ch/event/le-comite-du-27-octobre/
LOCATION:Union Nautique de Morges 25\, Port du Petit-Bois\, Prom. du Petit-Bois\,\, Morges\, vaud\, 1110\, Suisse
END:VEVENT
END:VCALENDAR