BEGIN:VCALENDAR
VERSION:2.0
PRODID:-//Union Nautique de Morges - ECPv4.6.19//NONSGML v1.0//EN
CALSCALE:GREGORIAN
METHOD:PUBLISH
X-WR-CALNAME:Union Nautique de Morges
X-ORIGINAL-URL:http://unionnautique.ch
X-WR-CALDESC:Events for Union Nautique de Morges
BEGIN:VEVENT
DTSTART;TZID=UTC+1:20160705T190000
DTEND;TZID=UTC+1:20160705T210000
DTSTAMP:20260421T030224
CREATED:20160627T081225Z
LAST-MODIFIED:20160627T081225Z
UID:2758-1467745200-1467752400@unionnautique.ch
SUMMARY:Le comité du 5 Juillet
DESCRIPTION:Le comité tiendra séance le Mardi 5 Juillet de 19h à 21h \n
URL:http://unionnautique.ch/event/le-comite-du-5-juillet/
LOCATION:Union Nautique de Morges 25\, Port du Petit-Bois\, Prom. du Petit-Bois\,\, Morges\, vaud\, 1110\, Suisse
END:VEVENT
END:VCALENDAR