BEGIN:VCALENDAR
VERSION:2.0
PRODID:-//Union Nautique de Morges - ECPv4.6.19//NONSGML v1.0//EN
CALSCALE:GREGORIAN
METHOD:PUBLISH
X-WR-CALNAME:Union Nautique de Morges
X-ORIGINAL-URL:http://unionnautique.ch
X-WR-CALDESC:Events for Union Nautique de Morges
BEGIN:VEVENT
DTSTART;TZID=UTC+1:20150519T190000
DTEND;TZID=UTC+1:20150519T203000
DTSTAMP:20260422T153525
CREATED:20150509T043314Z
LAST-MODIFIED:20150509T043314Z
UID:2052-1432062000-1432067400@unionnautique.ch
SUMMARY:Le Comité du Mardi 19 Mai
DESCRIPTION:Le comité tiendra séance au Carré le Mardi 19 Mai \nde 19h à 20h30 \n
URL:http://unionnautique.ch/event/le-comite-du-mardi-19-mai/
LOCATION:Union Nautique de Morges 25\, Port du Petit-Bois\, Prom. du Petit-Bois\,\, Morges\, vaud\, 1110\, Suisse
END:VEVENT
END:VCALENDAR