BEGIN:VCALENDAR
VERSION:2.0
PRODID:-//Union Nautique de Morges - ECPv4.6.19//NONSGML v1.0//EN
CALSCALE:GREGORIAN
METHOD:PUBLISH
X-WR-CALNAME:Union Nautique de Morges
X-ORIGINAL-URL:http://unionnautique.ch
X-WR-CALDESC:Events for Union Nautique de Morges
BEGIN:VEVENT
DTSTART;TZID=UTC+1:20150623T190000
DTEND;TZID=UTC+1:20150623T203000
DTSTAMP:20260422T125722
CREATED:20150520T105559Z
LAST-MODIFIED:20150520T105559Z
UID:2060-1435086000-1435091400@unionnautique.ch
SUMMARY:Le comité du Mardi 23 Juin
DESCRIPTION:Mardi 23 Juin 19hoo Comité au Carré \n
URL:http://unionnautique.ch/event/le-comite-du-mardi-23-juin/
LOCATION:Union Nautique de Morges 25\, Port du Petit-Bois\, Prom. du Petit-Bois\,\, Morges\, vaud\, 1110\, Suisse
END:VEVENT
END:VCALENDAR