BEGIN:VCALENDAR
VERSION:2.0
PRODID:-//Union Nautique de Morges - ECPv4.6.19//NONSGML v1.0//EN
CALSCALE:GREGORIAN
METHOD:PUBLISH
X-WR-CALNAME:Union Nautique de Morges
X-ORIGINAL-URL:http://unionnautique.ch
X-WR-CALDESC:Events for Union Nautique de Morges
BEGIN:VEVENT
DTSTART;TZID=UTC+1:20160824T190000
DTEND;TZID=UTC+1:20160824T210000
DTSTAMP:20260420T230602
CREATED:20160814T190619Z
LAST-MODIFIED:20160814T190723Z
UID:2788-1472065200-1472072400@unionnautique.ch
SUMMARY:Le comité du Mercredi 24 Août
DESCRIPTION:Le comité tiendra séance au Carré le Mercredi 24 Août  \n
URL:http://unionnautique.ch/event/le-comite-du-mercredi-24-aout/
LOCATION:Union Nautique de Morges 25\, Port du Petit-Bois\, Prom. du Petit-Bois\,\, Morges\, vaud\, 1110\, Suisse
END:VEVENT
END:VCALENDAR