BEGIN:VCALENDAR
VERSION:2.0
PRODID:-//Union Nautique de Morges - ECPv4.6.19//NONSGML v1.0//EN
CALSCALE:GREGORIAN
METHOD:PUBLISH
X-WR-CALNAME:Union Nautique de Morges
X-ORIGINAL-URL:http://unionnautique.ch
X-WR-CALDESC:Events for Union Nautique de Morges
BEGIN:VEVENT
DTSTART;TZID=UTC+1:20141115T113000
DTEND;TZID=UTC+1:20141115T180000
DTSTAMP:20260423T114226
CREATED:20141031T063249Z
LAST-MODIFIED:20141031T143253Z
UID:1403-1416051000-1416074400@unionnautique.ch
SUMMARY:Le repas des bénévoles
DESCRIPTION:Le repas des bénévoles \nouverts à tous les membres \n \n
URL:http://unionnautique.ch/event/le-repas-des-benevoles/
LOCATION:Union Nautique de Morges 25\, Port du Petit-Bois\, Prom. du Petit-Bois\,\, Morges\, vaud\, 1110\, Suisse
END:VEVENT
END:VCALENDAR