BEGIN:VCALENDAR
VERSION:2.0
PRODID:-//Union Nautique de Morges - ECPv4.6.19//NONSGML v1.0//EN
CALSCALE:GREGORIAN
METHOD:PUBLISH
X-WR-CALNAME:Union Nautique de Morges
X-ORIGINAL-URL:http://unionnautique.ch
X-WR-CALDESC:Events for Union Nautique de Morges
BEGIN:VEVENT
DTSTART;TZID=UTC+1:20131231T190000
DTEND;TZID=UTC+1:20140101T040000
DTSTAMP:20260426T004723
CREATED:20131201T124404Z
LAST-MODIFIED:20131201T124524Z
UID:105-1388516400-1388548800@unionnautique.ch
SUMMARY:Le Réveillon de l'UNM
DESCRIPTION: \n
URL:http://unionnautique.ch/event/le-reveillon-de-lunm/
END:VEVENT
END:VCALENDAR