BEGIN:VCALENDAR
VERSION:2.0
PRODID:-//Union Nautique de Morges - ECPv4.6.19//NONSGML v1.0//EN
CALSCALE:GREGORIAN
METHOD:PUBLISH
X-WR-CALNAME:Union Nautique de Morges
X-ORIGINAL-URL:http://unionnautique.ch
X-WR-CALDESC:Events for Union Nautique de Morges
BEGIN:VEVENT
DTSTART;VALUE=DATE:20160820
DTEND;VALUE=DATE:20160821
DTSTAMP:20260421T001813
CREATED:20160708T065216Z
LAST-MODIFIED:20160708T065216Z
UID:2765-1471651200-1471737599@unionnautique.ch
SUMMARY:Les moules frites sont de retour le 20 Août
DESCRIPTION:Le comité vous informe que les moules arrivent \nSamedi 20 Août \nNous aurons besoin d’aide !!!! \n\n      \n
URL:http://unionnautique.ch/event/les-moules-frites-sont-de-retour-le-20-aout/
LOCATION:Union Nautique de Morges 25\, Port du Petit-Bois\, Prom. du Petit-Bois\,\, Morges\, vaud\, 1110\, Suisse
END:VEVENT
END:VCALENDAR